BEGIN:VCALENDAR
VERSION:2.0
PRODID:-//wp-events-plugin.com//7.2.3.1//EN
TZID:Europe/Berlin
X-WR-TIMEZONE:Europe/Berlin
BEGIN:VEVENT
UID:56@fv-kita-altesfreibad.de
DTSTART;TZID=Europe/Berlin:20251122T150000
DTEND;TZID=Europe/Berlin:20251122T170000
DTSTAMP:20251007T120521Z
URL:https://fv-kita-altesfreibad.de/events/weihnachtsbasar-2025/
SUMMARY:Weihnachtsbasar 2025
DESCRIPTION:Alljährlicher Weihnachtsbasar in der Kindertagesstätte Altes 
 Freibad findet am 22.11.25 statt \nTraditionell findet eine Woche vor dem
  ersten Advent der Weihnachtsbasar statt. Von 15.00 bis 17.00 Uhr sorgt de
 r Förderverein für eine vorweihnachtliche Stimmung mit dem Verkauf von A
 dventsgestecken &amp\; -kränzen\, sowie Losen für eine Tombola. Für das
  leibliche Wohl wird ebenfalls gesorgt. Auch in diesem Jahr werden zudem G
 eschenkideen angeboten\, die teilweise von den Kindergartenkindern selbst 
 gebastelt werden.\nAuch in diesem Jahr sind helfende Hände herzlich willk
 ommen. Wer am Kränze-Binden (14.11.25 – 17.00 Uhr) oder Kränze-Dekorie
 ren (21.11.25 – 17.00 Uhr) teilnehmen möchte\, kann sich gerne über di
 e WhatsApp Gruppen beim Förderverein melden oder eine Mail an info@fv-kit
 a-altesfreibad.de schreiben. Dafür benötigen wir Tannengrün-Spenden –
  wer hier aushelfen kann\, darf sich ebenfalls gerne direkt an den Förder
 verein wenden.\nFür die Unterstützung am 22.11.25 werden in den nächste
 n Tagen an den Aushängen der Gruppen Listen zu finden sein\, mit der Bitt
 e sich hier einzutragen.\nWir bedanken uns im Voraus für jede Unterstütz
 ung.\nder Förderverein und die KiTa Altes Freibad
CATEGORIES:Aktion,Weihnachtsbasar
END:VEVENT
BEGIN:VTIMEZONE
TZID:Europe/Berlin
X-LIC-LOCATION:Europe/Berlin
BEGIN:STANDARD
DTSTART:20251026T020000
TZOFFSETFROM:+0200
TZOFFSETTO:+0100
TZNAME:CET
END:STANDARD
END:VTIMEZONE
END:VCALENDAR